BEGIN:VCALENDAR
VERSION:2.0
PRODID:-//5GMETA - ECPv6.7.1//NONSGML v1.0//EN
CALSCALE:GREGORIAN
METHOD:PUBLISH
X-ORIGINAL-URL:https://5gmeta-project.eu
X-WR-CALDESC:Events for 5GMETA
REFRESH-INTERVAL;VALUE=DURATION:PT1H
X-Robots-Tag:noindex
X-PUBLISHED-TTL:PT1H
BEGIN:VTIMEZONE
TZID:Africa/Johannesburg
BEGIN:STANDARD
TZOFFSETFROM:+0200
TZOFFSETTO:+0200
TZNAME:SAST
DTSTART:20230101T000000
END:STANDARD
END:VTIMEZONE
BEGIN:VEVENT
DTSTART;TZID=Africa/Johannesburg:20230419T150000
DTEND;TZID=Africa/Johannesburg:20230419T153000
DTSTAMP:20260422T233231
CREATED:20230411T104950Z
LAST-MODIFIED:20230411T104950Z
UID:3922-1681916400-1681918200@5gmeta-project.eu
SUMMARY:ROAD TO LISBON: 5GMETA Hackathon webinar – #3 Choosing and using available data for your innovative service
DESCRIPTION:The 5GMETA project is organising its Second Hackathon in Lisbon on 22-23 May during the ITS European Congress. \nIn preparation to the event\, the 5GMETA project consortium is organising its third webinar: this online meeting will provide participants with a description of the data types that will be available on the 5GMETA Platform (during the Second Hackathon)\, an explanation on how to obtain them and a presentation of the possible ways to process them. \nThe third webinar will be a good opportunity for developers who will be able to see the utilisation of the Platform in practice\, as the main speaker\, ICOOR‘s Roberto Cavicchioli\, will show how to develop innovative services exploiting the capabilities of the Platform. \nHackathon participants and developers from the general public will be provided with better technical knowledge of the Platform and of the data that is available in “real time streaming” on the Platform. It will help interface with the Platform and have insights on how to compete in the Hackathon. \n  \nThe third webinar will be held online at 15-15:30 on 19 April. \nFollow the link and register: spots are limited! \n  \n \nThe 5GMETA project has received funding from the European Union’s Horizon 2020 research and innovation programme under grant agreement No. 957360 (Innovation Action).
URL:https://5gmeta-project.eu/event/road-to-lisbon-5gmeta-hackathon-webinar-3-choosing-and-using-available-data-for-your-innovative-service/
LOCATION:Online
CATEGORIES:5G Meta Events
ATTACH;FMTTYPE=image/jpeg:https://5gmeta-project.eu/wp-content/uploads/2023/04/5GMETA-Webinar-series-1000-×-667-px-2.jpg
END:VEVENT
END:VCALENDAR