BEGIN:VCALENDAR
VERSION:2.0
PRODID:-//5GMETA - ECPv6.7.1//NONSGML v1.0//EN
CALSCALE:GREGORIAN
METHOD:PUBLISH
X-ORIGINAL-URL:https://5gmeta-project.eu
X-WR-CALDESC:Events for 5GMETA
REFRESH-INTERVAL;VALUE=DURATION:PT1H
X-Robots-Tag:noindex
X-PUBLISHED-TTL:PT1H
BEGIN:VTIMEZONE
TZID:Africa/Johannesburg
BEGIN:STANDARD
TZOFFSETFROM:+0200
TZOFFSETTO:+0200
TZNAME:SAST
DTSTART:20240101T000000
END:STANDARD
END:VTIMEZONE
BEGIN:VEVENT
DTSTART;TZID=Africa/Johannesburg:20240213T103000
DTEND;TZID=Africa/Johannesburg:20240213T170000
DTSTAMP:20260425T165552
CREATED:20231201T144603Z
LAST-MODIFIED:20240208T155435Z
UID:4094-1707820200-1707843600@5gmeta-project.eu
SUMMARY:5GMETA Final public event
DESCRIPTION:The agenda of the final pubic event is confirmed: thrilling speakers will give the audience their expert vision on 5G technologies application to CCAM. The public will have the chance to learn more about the 5GMETA Platform and how it will be a game changer for the mobility ecosystem! \nYou will not be able to participate in person? No worries! You can connect on the day of the event at 11:00 through the link below \nJoin here \n \n \nNeed more information? Here it is: \n📅 Date: February 13\, 2024 \n🕒 Time: 10:30 – 17:00 \n📍 Location: Modena\, DATA CENTRE \n🚀 Event Highlights: \n– Innovation Trends in Mobility Enabled by 5G: Explore the latest trends and innovations in mobility facilitated by 5G technology. \n– 5GMETA Platform Insights: Gain a comprehensive understanding of the 5GMETA Platform\, its definition\, scope\, functions\, and its role in shaping the future of 5G. \n– Keynote speech: Future of 5G in CCAM: Engage with thought leaders as they discuss the future of 5G in Cooperative\, Connected\, and Automated Mobility (CCAM). \n– Panel Discussion on Car-Captured Data: Participate in a panel discussion addressing challenges\, applications\, and required policies related to car-captured data for sustainable mobility. \n– Live Demonstrations: Witness live demonstrations showcasing the practical applications and capabilities of the 5GMETA Platform. \n– Startup Experience: Gain insights into the experience of startups with the 5GMETA Platform\, highlighting success stories and lessons learned. \n– Final Event Closing & Drinks: Conclude the event with closing remarks\, thank participants\, and join us for celebratory drinks. \nSave the date\, mark your calendars\, and be part of this milestone event! The 5GMETA final event is open to the public\, welcoming all who are interested in the future of connectivity. \nWe look forward to your presence as we celebrate the culmination of the 5GMETA project and explore the transformative power of 5G technology.
URL:https://5gmeta-project.eu/event/5gmeta-final-public-event/
LOCATION:ICOOR Data Centre\, Via E. Gorrieri\, 31\, 41122 Modena MO\, Italië\, Modena\, Italy
CATEGORIES:5G Meta Events
ATTACH;FMTTYPE=image/jpeg:https://5gmeta-project.eu/wp-content/uploads/2023/12/5GMETA-Platform-1000-x-667-px-1.jpg
END:VEVENT
END:VCALENDAR