BEGIN:VCALENDAR
VERSION:2.0
PRODID:-//5GMETA - ECPv6.7.1//NONSGML v1.0//EN
CALSCALE:GREGORIAN
METHOD:PUBLISH
X-WR-CALNAME:5GMETA
X-ORIGINAL-URL:https://5gmeta-project.eu
X-WR-CALDESC:Events for 5GMETA
REFRESH-INTERVAL;VALUE=DURATION:PT1H
X-Robots-Tag:noindex
X-PUBLISHED-TTL:PT1H
BEGIN:VTIMEZONE
TZID:UTC
BEGIN:STANDARD
TZOFFSETFROM:+0000
TZOFFSETTO:+0000
TZNAME:UTC
DTSTART:20200101T000000
END:STANDARD
END:VTIMEZONE
BEGIN:VEVENT
DTSTART;VALUE=DATE:20210302
DTEND;VALUE=DATE:20210303
DTSTAMP:20260425T121935
CREATED:20210518T134036Z
LAST-MODIFIED:20210518T135028Z
UID:2915-1614643200-1614729599@5gmeta-project.eu
SUMMARY:6th Future of Transport conference
DESCRIPTION:2 March 2021\, Online Event – Join 5GMETA at Forum Europe’s 6th Future of Transport conference\, which will once again gather stakeholders to discuss and debate the critical pillars of EU transport policy and explore digital innovation\, connectivity\, safety and how the transport sector fits within the EU’s vision for an economy that is both green and digital. \nKey Themes:\n● The EU’s strategy on sustainable and smart mobility\n● Digital innovation in modernising transport infrastructure safety\n● The regulatory revision of the trans-European transport network (TEN-T)\n● The directive on intelligent transport systems \nThe event is free of charge. \nClick here for more information. \n 
URL:https://5gmeta-project.eu/event/6th-future-of-transport-conference/
LOCATION:Online Event
CATEGORIES:5G Meta Events
ATTACH;FMTTYPE=image/jpeg:https://5gmeta-project.eu/wp-content/uploads/2021/03/Untitled-design-1.jpg
END:VEVENT
BEGIN:VEVENT
DTSTART;TZID=UTC:20210216T090000
DTEND;TZID=UTC:20210216T120000
DTSTAMP:20260425T121935
CREATED:20210518T134303Z
LAST-MODIFIED:20210518T135037Z
UID:2918-1613466000-1613476800@5gmeta-project.eu
SUMMARY:5G PPP Webinar: New 5G Core Technologies Innovation Projects
DESCRIPTION:16 February\, 9:00 – 12:00 CET – This webinar is to present the 8 new 5G Core Technologies projects joining the 5G-PPP to accelerate innovation in the development and take up of 5G\, among which is 5GMETA. The projects started in the second half of 2020 and are already developing exciting advances in 5G. \nThe webinar will run in two parts\, where four projects will present in each part\, with a short introduction from the European Commission and the 5G IA to start. \nThese projects were selected for funding under the 5G-PPP ICT-42-2020 call: 5G-PPP 5G Core Technologies innovation. \nAGENDA:\n\n\n\nTime (CET)\nSession\n Presenter\n\n\n09:00 – 09:30\nOpening\n\n\n\n\n09:00 – 09:05\nWelcome\nChairperson\n\n\n09:05 – 09:15\nIntroduction from EC\nMario Scillia\, EC\n\n\n09:15 – 09:20\nIntroduction from 5GIA\nColin Wilcock\, 5G-IA\,\n\n\n09:20 – 09:30\nPresentation of 5G PPP Governance model\nDavid Kennedy\, Eurescom\, Full5G\n\n\n09:30 – 10:30\nFirst Session (12’ + 3’ Q&A)\n\n\n\n09:30 – 09:45\n5G-LOGINNOV\nEusebiu Catana\, ERTICO\n\n\n09:45 – 10:00\n5G-Records\nIrene Alepuz Benaches\, UPV\n\n\n10:00 – 10:15\n5GMETA\nOihana Otaegui\, VICOMTECH\n\n\n10:15 – 10:30\nAffordable5G\nJosep Martrat\, ATOS\, or Dr. Panagiotis Trakadas\, NKUA\,\n\n\n10:30 – 10:45\n                        Coffee Break\n\n\n10:45 – 11:55\nSecond Session (12’ + 3’ Q&A)\n\n\n\n10:45 – 11:00\nCOREnect\nGerhard Fettweis or Yaning Zou\, TU Dresden\,\n\n\n11:00 – 11:15\nDRAGON\nVladimir Ermolov\, VTT\n\n\n11:15 – 11:30\nFUDGE–5G\nDavid Gomez-Barquero Universitat Politecnica de Valencia\n\n\n11:30 – 11:45\nInt5Gent\nDr. Dimitrios Klonidis\, Ubitech\n\n\n11:45 – 11:55\nWrap up & conclusions \n(Group – Picture)\nChairperson\n\n\n\nClick here to register.
URL:https://5gmeta-project.eu/event/5g-ppp-webinar-new-5g-core-technologies-innovation-projects/
LOCATION:Webinar
CATEGORIES:5G Meta Events
ATTACH;FMTTYPE=image/jpeg:https://5gmeta-project.eu/wp-content/uploads/2021/01/WEBINAR-New-5G-Core-Technologies-Innovation-Projects-1.jpg
END:VEVENT
BEGIN:VEVENT
DTSTART;VALUE=DATE:20201001
DTEND;VALUE=DATE:20201101
DTSTAMP:20260425T121935
CREATED:20210514T083649Z
LAST-MODIFIED:20210518T133326Z
UID:2874-1601510400-1604188799@5gmeta-project.eu
SUMMARY:5GMETA at the Virtual ITS European Congress
DESCRIPTION:5GMETA is delighted to announce its presence at the first event Virtual ITS European Congress 2020. For live updates\, follow #5GMETA on Twitter and visit https://virtualitscongress.com/
URL:https://5gmeta-project.eu/event/5gmeta-at-the-virtual-its-european-congress/
LOCATION:Europe
CATEGORIES:5G Meta Events
ATTACH;FMTTYPE=image/jpeg:https://5gmeta-project.eu/wp-content/uploads/2020/10/Untitled-design-1.jpg
END:VEVENT
END:VCALENDAR