BEGIN:VCALENDAR
VERSION:2.0
PRODID:-//5GMETA - ECPv6.7.1//NONSGML v1.0//EN
CALSCALE:GREGORIAN
METHOD:PUBLISH
X-WR-CALNAME:5GMETA
X-ORIGINAL-URL:https://5gmeta-project.eu
X-WR-CALDESC:Events for 5GMETA
REFRESH-INTERVAL;VALUE=DURATION:PT1H
X-Robots-Tag:noindex
X-PUBLISHED-TTL:PT1H
BEGIN:VTIMEZONE
TZID:Africa/Johannesburg
BEGIN:STANDARD
TZOFFSETFROM:+0200
TZOFFSETTO:+0200
TZNAME:SAST
DTSTART:20230101T000000
END:STANDARD
END:VTIMEZONE
BEGIN:VEVENT
DTSTART;VALUE=DATE:20230522
DTEND;VALUE=DATE:20230524
DTSTAMP:20260425T000618
CREATED:20230316T172101Z
LAST-MODIFIED:20230320T092509Z
UID:3861-1684713600-1684886399@5gmeta-project.eu
SUMMARY:5GMETA Second Hackathon
DESCRIPTION:Are you an innovator and a developer? Are you eager to test yourself while contributing to shape tomorrow’s mobility? \nJoin us at the 5GMETA Second Hackathon in Lisbon\, on 22-23 May!\nDuring the Hackathon\, you will have the unique chance to be among the very first forerunners to access and use the 5GMETA Platform software components. \nThe three best teams will be awarded a total prize of €5\,000!\nMoreover\, all teams will have the opportunity to interface with mentors\, tutors\, investors\, and industrial stakeholders. \nAn incredible venue – The ITS European Congress \nAnd benefits do not stop here: hackathon participants will be granted free entrance to the ITS European Congress\, a unique occasion to enter into contact with the most influential actors of tomorrow’s mobility. \n  \nLearn more on 5GMETA website. \nFor any questions about the Hackathon and registrations\, please contact us at hackathon@5gmeta-project.eu \n  \n5GMETA project is co-funded by the EU’s H2020 Research and Innovation Programme under the Grant Agreement No 957360.
URL:https://5gmeta-project.eu/event/5gmeta-second-hackathon/
LOCATION:Lisbon
CATEGORIES:5G Meta Events
ATTACH;FMTTYPE=image/jpeg:https://5gmeta-project.eu/wp-content/uploads/2023/01/5GMETA-Second-Hackathon-Eventbrite-2160-×-1080-px.jpg
END:VEVENT
END:VCALENDAR